BEGIN:VCALENDAR
VERSION:2.0
PRODID:-//PWHAT - ECPv6.15.20//NONSGML v1.0//EN
CALSCALE:GREGORIAN
METHOD:PUBLISH
X-WR-CALNAME:PWHAT
X-ORIGINAL-URL:https://pwhat.com
X-WR-CALDESC:Events for PWHAT
REFRESH-INTERVAL;VALUE=DURATION:PT1H
X-Robots-Tag:noindex
X-PUBLISHED-TTL:PT1H
BEGIN:VTIMEZONE
TZID:UTC
BEGIN:STANDARD
TZOFFSETFROM:+0000
TZOFFSETTO:+0000
TZNAME:UTC
DTSTART:20210101T000000
END:STANDARD
END:VTIMEZONE
BEGIN:VEVENT
DTSTART;TZID=UTC:20220219T100000
DTEND;TZID=UTC:20220220T160000
DTSTAMP:20260423T151546
CREATED:20211127T145232Z
LAST-MODIFIED:20220225T010025Z
UID:7254-1645264800-1645372800@pwhat.com
SUMMARY:Winter Versatility Clinic - Feb. 19 & 20
DESCRIPTION:February 19th & 20th at Maggie Moore’s Facility.
URL:https://pwhat.com/event/board-of-directors-meeting/
LOCATION:TN
END:VEVENT
END:VCALENDAR