BEGIN:VCALENDAR
VERSION:2.0
PRODID:-//PWHAT - ECPv6.15.20//NONSGML v1.0//EN
CALSCALE:GREGORIAN
METHOD:PUBLISH
X-ORIGINAL-URL:https://pwhat.com
X-WR-CALDESC:Events for PWHAT
REFRESH-INTERVAL;VALUE=DURATION:PT1H
X-Robots-Tag:noindex
X-PUBLISHED-TTL:PT1H
BEGIN:VTIMEZONE
TZID:UTC
BEGIN:STANDARD
TZOFFSETFROM:+0000
TZOFFSETTO:+0000
TZNAME:UTC
DTSTART:20210101T000000
END:STANDARD
END:VTIMEZONE
BEGIN:VEVENT
DTSTART;TZID=UTC:20221023T130000
DTEND;TZID=UTC:20221023T180000
DTSTAMP:20260422T075241
CREATED:20220126T153417Z
LAST-MODIFIED:20221012T132550Z
UID:7328-1666530000-1666548000@pwhat.com
SUMMARY:Trail Ride Garrison Creek
DESCRIPTION:Starts 1:00 pm  Dinner provided by PWHAT at end of ride
URL:https://pwhat.com/event/trail-ride-garrison-creek/
LOCATION:Garrison Creek on the Natchez Trace\, TN\, United States
END:VEVENT
END:VCALENDAR