BEGIN:VCALENDAR
VERSION:2.0
PRODID:-//PWHAT - ECPv6.15.20//NONSGML v1.0//EN
CALSCALE:GREGORIAN
METHOD:PUBLISH
X-ORIGINAL-URL:https://pwhat.com
X-WR-CALDESC:Events for PWHAT
REFRESH-INTERVAL;VALUE=DURATION:PT1H
X-Robots-Tag:noindex
X-PUBLISHED-TTL:PT1H
BEGIN:VTIMEZONE
TZID:UTC
BEGIN:STANDARD
TZOFFSETFROM:+0000
TZOFFSETTO:+0000
TZNAME:UTC
DTSTART:20220101T000000
END:STANDARD
END:VTIMEZONE
BEGIN:VEVENT
DTSTART;TZID=UTC:20231028T110000
DTEND;TZID=UTC:20231028T170000
DTSTAMP:20260421T102739
CREATED:20230324T002134Z
LAST-MODIFIED:20230411T132811Z
UID:7765-1698490800-1698512400@pwhat.com
SUMMARY:PWHAT Jamboree - TN Livestock Center
DESCRIPTION:Class Sheet \nPre -entries required — Make Online Entries Here \n  \n 
URL:https://pwhat.com/event/jamboree/
LOCATION:TN Livestock Center\, 1720 Greenland Dr\,\, Murfreesboro\, TN\, 37132\, United States
END:VEVENT
END:VCALENDAR