BEGIN:VCALENDAR
VERSION:2.0
PRODID:-//PWHAT - ECPv6.15.20//NONSGML v1.0//EN
CALSCALE:GREGORIAN
METHOD:PUBLISH
X-WR-CALNAME:PWHAT
X-ORIGINAL-URL:https://pwhat.com
X-WR-CALDESC:Events for PWHAT
REFRESH-INTERVAL;VALUE=DURATION:PT1H
X-Robots-Tag:noindex
X-PUBLISHED-TTL:PT1H
BEGIN:VTIMEZONE
TZID:UTC
BEGIN:STANDARD
TZOFFSETFROM:+0000
TZOFFSETTO:+0000
TZNAME:UTC
DTSTART:20250101T000000
END:STANDARD
END:VTIMEZONE
BEGIN:VEVENT
DTSTART;TZID=UTC:20260613T103000
DTEND;TZID=UTC:20260613T170000
DTSTAMP:20260419T183134
CREATED:20260214T213245Z
LAST-MODIFIED:20260214T213937Z
UID:8288-1781346600-1781370000@pwhat.com
SUMMARY:PWHAT Show Series June
DESCRIPTION:PWHAT Show Series June 13\, 10:30 am James Ward Ag Center\, Lebanon \nCasual Attire Class Sheet
URL:https://pwhat.com/event/pwhat-show-series-june-2/
LOCATION:James Ward Ag Center Lebanon TN\, 945 Baddour Pkwy\, Lebanon\, TN\, United States
END:VEVENT
END:VCALENDAR