BEGIN:VCALENDAR
VERSION:2.0
PRODID:-//PWHAT - ECPv6.15.20//NONSGML v1.0//EN
CALSCALE:GREGORIAN
METHOD:PUBLISH
X-WR-CALNAME:PWHAT
X-ORIGINAL-URL:https://pwhat.com
X-WR-CALDESC:Events for PWHAT
REFRESH-INTERVAL;VALUE=DURATION:PT1H
X-Robots-Tag:noindex
X-PUBLISHED-TTL:PT1H
BEGIN:VTIMEZONE
TZID:UTC
BEGIN:STANDARD
TZOFFSETFROM:+0000
TZOFFSETTO:+0000
TZNAME:UTC
DTSTART:20190101T000000
END:STANDARD
END:VTIMEZONE
BEGIN:VEVENT
DTSTART;TZID=UTC:20220507T100000
DTEND;TZID=UTC:20220507T170000
DTSTAMP:20260420T054558
CREATED:20220126T151501Z
LAST-MODIFIED:20220126T151501Z
UID:7312-1651917600-1651942800@pwhat.com
SUMMARY:Fun Show Lewisburg
DESCRIPTION:Marshall County Arena Lewisburg TN 10:00 AM
URL:https://pwhat.com/event/fun-show-lewisburg/
LOCATION:Marshall County Show Arena Lewisburg\, 1401-1405 Robin Hood Road\, Lewisburg TN
END:VEVENT
BEGIN:VEVENT
DTSTART;TZID=UTC:20220416T100000
DTEND;TZID=UTC:20220416T170000
DTSTAMP:20260420T054558
CREATED:20220126T012955Z
LAST-MODIFIED:20220126T012955Z
UID:7305-1650103200-1650128400@pwhat.com
SUMMARY:Trail Ride Percy Warner Park
DESCRIPTION:Meet at 10:00 am
URL:https://pwhat.com/event/trail-ride-percy-warner-park/
LOCATION:Percy Warner Park\, TN\, United States
END:VEVENT
BEGIN:VEVENT
DTSTART;TZID=UTC:20220409T100000
DTEND;TZID=UTC:20220409T160000
DTSTAMP:20260420T054558
CREATED:20211127T145711Z
LAST-MODIFIED:20220405T004719Z
UID:7260-1649498400-1649520000@pwhat.com
SUMMARY:Waking into Spring Fun Show
DESCRIPTION:MTSU Livestock Center\, Murfreesboro TN \nRail classes start at 10 am \n 
URL:https://pwhat.com/event/waking-into-spring-fun-show/
LOCATION:TN Livestock Center\, 1720 Greenland Dr\,\, Murfreesboro\, TN\, 37132\, United States
END:VEVENT
BEGIN:VEVENT
DTSTART;TZID=UTC:20220308T190000
DTEND;TZID=UTC:20220308T210000
DTSTAMP:20260420T054558
CREATED:20211127T150209Z
LAST-MODIFIED:20211127T150209Z
UID:7265-1646766000-1646773200@pwhat.com
SUMMARY:Board of Directors Meeting
DESCRIPTION:Location TBD
URL:https://pwhat.com/event/board-of-directors-meeting-3/
LOCATION:TN
END:VEVENT
BEGIN:VEVENT
DTSTART;TZID=UTC:20220219T100000
DTEND;TZID=UTC:20220220T160000
DTSTAMP:20260420T054558
CREATED:20211127T145232Z
LAST-MODIFIED:20220225T010025Z
UID:7254-1645264800-1645372800@pwhat.com
SUMMARY:Winter Versatility Clinic - Feb. 19 & 20
DESCRIPTION:February 19th & 20th at Maggie Moore’s Facility.
URL:https://pwhat.com/event/board-of-directors-meeting/
LOCATION:TN
END:VEVENT
BEGIN:VEVENT
DTSTART;TZID=UTC:20220208T190000
DTEND;TZID=UTC:20220208T210000
DTSTAMP:20260420T054558
CREATED:20211127T145937Z
LAST-MODIFIED:20211127T150004Z
UID:7262-1644346800-1644354000@pwhat.com
SUMMARY:Board of Directors Meeting
DESCRIPTION:Location TBD
URL:https://pwhat.com/event/board-of-directors-meeting-2/
LOCATION:TN
END:VEVENT
BEGIN:VEVENT
DTSTART;TZID=UTC:20220129T173000
DTEND;TZID=UTC:20220129T230000
DTSTAMP:20260420T054558
CREATED:20211127T145000Z
LAST-MODIFIED:20211127T145056Z
UID:7251-1643477400-1643497200@pwhat.com
SUMMARY:PWHAT Awards Banquet
DESCRIPTION:January 29th\, 2022  Bell Buckle Cafe Banquet Hall \nClick here to make reservations.
URL:https://pwhat.com/event/pwhat-awards-banquet/
LOCATION:Bell Buckle Cafe\, 16 Railroad Sq E\, Bell Buckle\, TN\, 37020
END:VEVENT
BEGIN:VEVENT
DTSTART;TZID=UTC:20210313T173000
DTEND;TZID=UTC:20210313T230000
DTSTAMP:20260420T054558
CREATED:20201006T205551Z
LAST-MODIFIED:20210212T184430Z
UID:6809-1615656600-1615676400@pwhat.com
SUMMARY:PWHAT Banquet
DESCRIPTION:Bell Buckle Cafe Banquet Hall  5:30 \nMake reservations here
URL:https://pwhat.com/event/pwhat-banquet/
LOCATION:Bell Buckle Cafe\, 16 Railroad Sq E\, Bell Buckle\, TN\, 37020
END:VEVENT
BEGIN:VEVENT
DTSTART;TZID=UTC:20201017T100000
DTEND;TZID=UTC:20201017T100000
DTSTAMP:20260420T054558
CREATED:20200219T171103Z
LAST-MODIFIED:20200903T175358Z
UID:6492-1602928800-1602928800@pwhat.com
SUMMARY:Oktoberfest Show (Fun Show) Lewisburg
DESCRIPTION:Fun Show at Marshall County show arena\,  Robin Hood Road Lewisburg\, TN \nVersatility classes start at 10:00; Rail classes start at 11:00 \nClass sheet
URL:https://pwhat.com/event/oktoberfest-show-fun-show-woodbury/
LOCATION:Marshall County Show Arena Lewisburg\, 1401-1405 Robin Hood Road\, Lewisburg TN
END:VEVENT
BEGIN:VEVENT
DTSTART;TZID=UTC:20200919T100000
DTEND;TZID=UTC:20200919T100000
DTSTAMP:20260420T054558
CREATED:20200219T170628Z
LAST-MODIFIED:20200903T175249Z
UID:6490-1600509600-1600509600@pwhat.com
SUMMARY:Fun Show Wartrace
DESCRIPTION:Fun show at Jernigan Field\, Wartrace\, TN \nVersatility classes start at 10:00 am; Rail classes start at 11:00 am \nClass sheet
URL:https://pwhat.com/event/fun-show-justus-carter-training/
LOCATION:Jernigan Field Wartrace\, Wartrace\, TN\, United States
END:VEVENT
BEGIN:VEVENT
DTSTART;TZID=UTC:20200118T173000
DTEND;TZID=UTC:20200118T173000
DTSTAMP:20260420T054558
CREATED:20181003T004534Z
LAST-MODIFIED:20191208T223718Z
UID:4647-1579368600-1579368600@pwhat.com
SUMMARY:Awards Banquet Bell Buckle
DESCRIPTION:
URL:https://pwhat.com/event/awards-banquet/
LOCATION:Bell Buckle Cafe\, 16 Railroad Sq E\, Bell Buckle\, TN\, 37020
END:VEVENT
END:VCALENDAR