BEGIN:VCALENDAR
VERSION:2.0
PRODID:-//PWHAT - ECPv6.15.20//NONSGML v1.0//EN
CALSCALE:GREGORIAN
METHOD:PUBLISH
X-WR-CALNAME:PWHAT
X-ORIGINAL-URL:https://pwhat.com
X-WR-CALDESC:Events for PWHAT
REFRESH-INTERVAL;VALUE=DURATION:PT1H
X-Robots-Tag:noindex
X-PUBLISHED-TTL:PT1H
BEGIN:VTIMEZONE
TZID:UTC
BEGIN:STANDARD
TZOFFSETFROM:+0000
TZOFFSETTO:+0000
TZNAME:UTC
DTSTART:20250101T000000
END:STANDARD
END:VTIMEZONE
BEGIN:VEVENT
DTSTART;TZID=UTC:20260908T190000
DTEND;TZID=UTC:20260908T210000
DTSTAMP:20260419T225614
CREATED:20260214T212330Z
LAST-MODIFIED:20260214T212330Z
UID:8279-1788894000-1788901200@pwhat.com
SUMMARY:BOD Meeting
DESCRIPTION:BOD Meeting 7:00 pm Location TBD
URL:https://pwhat.com/event/bod-meeting-7/
LOCATION:TBD
END:VEVENT
BEGIN:VEVENT
DTSTART;TZID=UTC:20261024T103000
DTEND;TZID=UTC:20261024T170000
DTSTAMP:20260419T225614
CREATED:20260214T213449Z
LAST-MODIFIED:20260214T214020Z
UID:8290-1792837800-1792861200@pwhat.com
SUMMARY:PWHAT Jamboree
DESCRIPTION:PWHAT Jamboree Oct 24\, 10:30 am \nDress Show   Double Points   Class Sheet
URL:https://pwhat.com/event/pwhat-jamboree-3/
LOCATION:TN Livestock Center\, 1720 Greenland Dr\,\, Murfreesboro\, TN\, 37132\, United States
END:VEVENT
BEGIN:VEVENT
DTSTART;TZID=UTC:20261110T190000
DTEND;TZID=UTC:20261110T210000
DTSTAMP:20260419T225614
CREATED:20260214T212454Z
LAST-MODIFIED:20260214T212454Z
UID:8281-1794337200-1794344400@pwhat.com
SUMMARY:BOD Meeting
DESCRIPTION:BOD Meeting 7:00 pm Location TBD
URL:https://pwhat.com/event/bod-meeting-8/
LOCATION:TBD
END:VEVENT
END:VCALENDAR