BEGIN:VCALENDAR
VERSION:2.0
PRODID:-//PWHAT - ECPv6.15.20//NONSGML v1.0//EN
CALSCALE:GREGORIAN
METHOD:PUBLISH
X-WR-CALNAME:PWHAT
X-ORIGINAL-URL:https://pwhat.com
X-WR-CALDESC:Events for PWHAT
REFRESH-INTERVAL;VALUE=DURATION:PT1H
X-Robots-Tag:noindex
X-PUBLISHED-TTL:PT1H
BEGIN:VTIMEZONE
TZID:UTC
BEGIN:STANDARD
TZOFFSETFROM:+0000
TZOFFSETTO:+0000
TZNAME:UTC
DTSTART:20210101T000000
END:STANDARD
END:VTIMEZONE
BEGIN:VEVENT
DTSTART;TZID=UTC:20250211T183000
DTEND;TZID=UTC:20250211T200000
DTSTAMP:20260420T011225
CREATED:20250202T231756Z
LAST-MODIFIED:20250202T231756Z
UID:8085-1739298600-1739304000@pwhat.com
SUMMARY:Board of Directors Meeting
DESCRIPTION:
URL:https://pwhat.com/event/board-of-directors-meeting-4/
LOCATION:SSHBEA Office\, 2519 Highway 231 N\, Shelbyville\, TN\, 37160\, United States
END:VEVENT
BEGIN:VEVENT
DTSTART;TZID=UTC:20250125T173000
DTEND;TZID=UTC:20250125T223000
DTSTAMP:20260420T011225
CREATED:20241118T002812Z
LAST-MODIFIED:20241122T214549Z
UID:8027-1737826200-1737844200@pwhat.com
SUMMARY:Awards Banquet
DESCRIPTION:You are invited to celebrate the accomplishments of the PWHAT 2024 year with a Social Hour\, Dinner\, Awards\, Silent Auction and Annual Meeting! \nJanuary 25\, 2025 TWHBEA Auditorium\, 250 N. Ellington Pkwy Lewisburg\, TN \n5:30 Social Hour & Silent Auction (BYOB – setups provided) \n6:30 Dinner (Catered Buffet) \nHigh Point awards will be presented after the meal. \nPlease bring items for the silent auction \n***  Deadline to make reservations is Jan 10\, 2025  *** \nReservations and payment can be made via Paypal\, Venmo or credit card on our website: www.PWHAT.com/award-banquet-reservations/
URL:https://pwhat.com/event/awards-banquet-4/
LOCATION:TWHBEA\, 250 N. Ellington Pkwy\, Lewisburg\, TN\, 37091
END:VEVENT
BEGIN:VEVENT
DTSTART;TZID=UTC:20241112T190000
DTEND;TZID=UTC:20241112T203000
DTSTAMP:20260420T011225
CREATED:20240512T201059Z
LAST-MODIFIED:20240512T201059Z
UID:7988-1731438000-1731443400@pwhat.com
SUMMARY:Nov BOD Meeting
DESCRIPTION:7:00 pm Location SSHBEA Office HWY 231 N Shelbyville TN
URL:https://pwhat.com/event/nov-bod-meeting/
LOCATION:SSHBEA Office\, 2519 Highway 231 N\, Shelbyville\, TN\, 37160\, United States
END:VEVENT
BEGIN:VEVENT
DTSTART;TZID=UTC:20241026T110000
DTEND;TZID=UTC:20241026T170000
DTSTAMP:20260420T011225
CREATED:20240219T002424Z
LAST-MODIFIED:20240530T220931Z
UID:7901-1729940400-1729962000@pwhat.com
SUMMARY:October PWHAT Jamboree Murfreesboro
DESCRIPTION:MTSU Livestock Center 11:00 am \nDress show\, double points\, photographer\, organist\, trophy for each class. \nClass Sheet \nOnline Entries
URL:https://pwhat.com/event/pwhat-jamboree/
LOCATION:TN Livestock Center\, 1720 Greenland Dr\,\, Murfreesboro\, TN\, 37132\, United States
END:VEVENT
BEGIN:VEVENT
DTSTART;TZID=UTC:20240910T190000
DTEND;TZID=UTC:20240910T200000
DTSTAMP:20260420T011225
CREATED:20240512T200844Z
LAST-MODIFIED:20240512T200844Z
UID:7986-1725994800-1725998400@pwhat.com
SUMMARY:Sept BOD Meeting
DESCRIPTION:7:00 pm Location TBD
URL:https://pwhat.com/event/sept-bod-meeting/
LOCATION:TBD
END:VEVENT
BEGIN:VEVENT
DTSTART;TZID=UTC:20240713T110000
DTEND;TZID=UTC:20240713T170000
DTSTAMP:20260420T011225
CREATED:20240219T002214Z
LAST-MODIFIED:20240530T220723Z
UID:7899-1720868400-1720890000@pwhat.com
SUMMARY:July Fun Show Lebanon
DESCRIPTION:Class Sheet \nOnline Entries
URL:https://pwhat.com/event/july-fun-show/
LOCATION:James Ward Ag Center Lebanon TN\, 945 Baddour Pkwy\, Lebanon\, TN\, United States
END:VEVENT
BEGIN:VEVENT
DTSTART;TZID=UTC:20240709T190000
DTEND;TZID=UTC:20240709T200000
DTSTAMP:20260420T011225
CREATED:20240512T200727Z
LAST-MODIFIED:20240512T200727Z
UID:7984-1720551600-1720555200@pwhat.com
SUMMARY:July BOD Meeting
DESCRIPTION:7:00 pm Location TBD
URL:https://pwhat.com/event/july-bod-meeting/
LOCATION:TBD
END:VEVENT
BEGIN:VEVENT
DTSTART;TZID=UTC:20240615T110000
DTEND;TZID=UTC:20240615T170000
DTSTAMP:20260420T011225
CREATED:20240219T002102Z
LAST-MODIFIED:20240530T220645Z
UID:7897-1718449200-1718470800@pwhat.com
SUMMARY:June Fun Show Lewisburg
DESCRIPTION:Class Sheet \nOnline Entries
URL:https://pwhat.com/event/june-fun-show/
LOCATION:Marshall County Show Arena Lewisburg\, 1401-1405 Robin Hood Road\, Lewisburg TN
END:VEVENT
BEGIN:VEVENT
DTSTART;TZID=UTC:20240518T110000
DTEND;TZID=UTC:20240518T170000
DTSTAMP:20260420T011225
CREATED:20240219T001958Z
LAST-MODIFIED:20240512T202339Z
UID:7893-1716030000-1716051600@pwhat.com
SUMMARY:May Fun Show Lewisburg
DESCRIPTION:Class Sheet \nOnline Entries
URL:https://pwhat.com/event/may-fun-show/
LOCATION:Rising Glory Farm\, 2622 Franklin Pike\, Lewisburg\, TN\, 37091
END:VEVENT
BEGIN:VEVENT
DTSTART;TZID=UTC:20240514T190000
DTEND;TZID=UTC:20240514T200000
DTSTAMP:20260420T011225
CREATED:20240512T200517Z
LAST-MODIFIED:20240512T201158Z
UID:7981-1715713200-1715716800@pwhat.com
SUMMARY:May BOD Meeting
DESCRIPTION:Board of Directors Zoom Conference Call 7:00 pm
URL:https://pwhat.com/event/bod-meeting-2/
LOCATION:ZOOM Call
END:VEVENT
BEGIN:VEVENT
DTSTART;TZID=UTC:20240427T110000
DTEND;TZID=UTC:20240427T170000
DTSTAMP:20260420T011225
CREATED:20240219T001543Z
LAST-MODIFIED:20240219T155255Z
UID:7891-1714215600-1714237200@pwhat.com
SUMMARY:April Fun Show
DESCRIPTION:Class Sheet \nOnline Entries
URL:https://pwhat.com/event/april-fun-show/
LOCATION:TN Livestock Center\, 1720 Greenland Dr\,\, Murfreesboro\, TN\, 37132\, United States
END:VEVENT
BEGIN:VEVENT
DTSTART;TZID=UTC:20240312T190000
DTEND;TZID=UTC:20240312T203000
DTSTAMP:20260420T011225
CREATED:20240219T001418Z
LAST-MODIFIED:20240219T001418Z
UID:7889-1710270000-1710275400@pwhat.com
SUMMARY:BOD Meeting
DESCRIPTION:Location has not been decided yet. Might be Zoom meeting.
URL:https://pwhat.com/event/bod-meeting/
LOCATION:TBD
END:VEVENT
BEGIN:VEVENT
DTSTART;TZID=UTC:20240127T173000
DTEND;TZID=UTC:20240127T220000
DTSTAMP:20260420T011225
CREATED:20231130T235301Z
LAST-MODIFIED:20231130T235301Z
UID:7846-1706376600-1706392800@pwhat.com
SUMMARY:AWARDS BANQUET
DESCRIPTION:
URL:https://pwhat.com/event/awards-banquet-3/
LOCATION:Bell Buckle Cafe\, 16 Railroad Sq E\, Bell Buckle\, TN\, 37020
END:VEVENT
BEGIN:VEVENT
DTSTART;TZID=UTC:20231028T110000
DTEND;TZID=UTC:20231028T170000
DTSTAMP:20260420T011225
CREATED:20230324T002134Z
LAST-MODIFIED:20230411T132811Z
UID:7765-1698490800-1698512400@pwhat.com
SUMMARY:PWHAT Jamboree - TN Livestock Center
DESCRIPTION:Class Sheet \nPre -entries required — Make Online Entries Here \n  \n 
URL:https://pwhat.com/event/jamboree/
LOCATION:TN Livestock Center\, 1720 Greenland Dr\,\, Murfreesboro\, TN\, 37132\, United States
END:VEVENT
BEGIN:VEVENT
DTSTART;TZID=UTC:20230708T110000
DTEND;TZID=UTC:20230708T170000
DTSTAMP:20260420T011225
CREATED:20230324T001948Z
LAST-MODIFIED:20230324T003346Z
UID:7762-1688814000-1688835600@pwhat.com
SUMMARY:Fun Show Lebanon
DESCRIPTION:Class Sheet \nPre -entries required — Make Online Entries Here \n  \n 
URL:https://pwhat.com/event/fun-show-lebanon-2/
LOCATION:James Ward Ag Center Lebanon TN\, 945 Baddour Pkwy\, Lebanon\, TN\, United States
END:VEVENT
BEGIN:VEVENT
DTSTART;TZID=UTC:20230617T110000
DTEND;TZID=UTC:20230617T170000
DTSTAMP:20260420T011225
CREATED:20230324T001327Z
LAST-MODIFIED:20230324T003420Z
UID:7760-1686999600-1687021200@pwhat.com
SUMMARY:Fun Show Lewisburg
DESCRIPTION:Class Sheet \nPre -entries required — Make Online Entries Here
URL:https://pwhat.com/event/fun-show-2/
LOCATION:Marshall County Show Arena Lewisburg\, 1401-1405 Robin Hood Road\, Lewisburg TN
END:VEVENT
BEGIN:VEVENT
DTSTART;TZID=UTC:20230520T110000
DTEND;TZID=UTC:20230520T170000
DTSTAMP:20260420T011225
CREATED:20230324T001130Z
LAST-MODIFIED:20230324T003509Z
UID:7758-1684580400-1684602000@pwhat.com
SUMMARY:Fun Show Wartrace
DESCRIPTION:Class Sheet \nPre -entries required — Make Online Entries Here
URL:https://pwhat.com/event/fun-show/
LOCATION:Jernigan Field Wartrace\, Wartrace\, TN\, United States
END:VEVENT
BEGIN:VEVENT
DTSTART;TZID=UTC:20230422T110000
DTEND;TZID=UTC:20230422T170000
DTSTAMP:20260420T011225
CREATED:20230324T000905Z
LAST-MODIFIED:20230411T132853Z
UID:7756-1682161200-1682182800@pwhat.com
SUMMARY:Stepping Into Spring Fun Show - TN Livestock Center
DESCRIPTION:Class Sheet \nPre -entries required — Make Online Entries Here
URL:https://pwhat.com/event/walking-into-spring-fun-show/
LOCATION:TN Livestock Center\, 1720 Greenland Dr\,\, Murfreesboro\, TN\, 37132\, United States
END:VEVENT
BEGIN:VEVENT
DTSTART;TZID=UTC:20230225T110000
DTEND;TZID=UTC:20230225T170000
DTSTAMP:20260420T011225
CREATED:20230203T051724Z
LAST-MODIFIED:20230203T051724Z
UID:7678-1677322800-1677344400@pwhat.com
SUMMARY:Schooling Show - 2023 Show Series #1
DESCRIPTION:
URL:https://pwhat.com/event/schooling-show-2023-show-series-1/
LOCATION:Clearview Farm\, 2291 US 231 South\, Shelbyville\, TN\, United States
END:VEVENT
BEGIN:VEVENT
DTSTART;TZID=UTC:20230128T173000
DTEND;TZID=UTC:20230128T230000
DTSTAMP:20260420T011225
CREATED:20221129T141956Z
LAST-MODIFIED:20221129T141956Z
UID:7634-1674927000-1674946800@pwhat.com
SUMMARY:Awards Banquet
DESCRIPTION:
URL:https://pwhat.com/event/awards-banquet-2/
LOCATION:Bell Buckle Cafe\, 16 Railroad Sq E\, Bell Buckle\, TN\, 37020
END:VEVENT
BEGIN:VEVENT
DTSTART;TZID=UTC:20221210T190000
DTEND;TZID=UTC:20221210T230000
DTSTAMP:20260420T011225
CREATED:20221129T142109Z
LAST-MODIFIED:20221129T142109Z
UID:7631-1670698800-1670713200@pwhat.com
SUMMARY:BOD Potluck
DESCRIPTION:
URL:https://pwhat.com/event/bod-potluck/
LOCATION:Christiana\, TN
END:VEVENT
BEGIN:VEVENT
DTSTART;TZID=UTC:20221023T130000
DTEND;TZID=UTC:20221023T180000
DTSTAMP:20260420T011225
CREATED:20220126T153417Z
LAST-MODIFIED:20221012T132550Z
UID:7328-1666530000-1666548000@pwhat.com
SUMMARY:Trail Ride Garrison Creek
DESCRIPTION:Starts 1:00 pm  Dinner provided by PWHAT at end of ride
URL:https://pwhat.com/event/trail-ride-garrison-creek/
LOCATION:Garrison Creek on the Natchez Trace\, TN\, United States
END:VEVENT
BEGIN:VEVENT
DTSTART;TZID=UTC:20221022T110000
DTEND;TZID=UTC:20221022T170000
DTSTAMP:20260420T011225
CREATED:20220126T152157Z
LAST-MODIFIED:20221004T234659Z
UID:7318-1666436400-1666458000@pwhat.com
SUMMARY:PWHAT Jamboree TN Livestock Center
DESCRIPTION:Jamboree TN Livestock Center Murfreesboro\, TN 10:00 am  Dress Show
URL:https://pwhat.com/event/pwhat-jamboree-tn-livestock-center/
LOCATION:TN Livestock Center\, 1720 Greenland Dr\,\, Murfreesboro\, TN\, 37132\, United States
END:VEVENT
BEGIN:VEVENT
DTSTART;TZID=UTC:20220924T100000
DTEND;TZID=UTC:20220924T170000
DTSTAMP:20260420T011225
CREATED:20220126T153243Z
LAST-MODIFIED:20220126T153243Z
UID:7325-1664013600-1664038800@pwhat.com
SUMMARY:Trail Ride Badlands Horse Camp
DESCRIPTION:Horse Camp has a cabin\, RV spaces and some stalls.  Day ride starts at 10:00 am
URL:https://pwhat.com/event/trail-ride-badlands-horse-camp/
LOCATION:Badlands Horse Camp\, 926 Fletcher Rd\, Gruetli Laager\, TN\, 37339
END:VEVENT
BEGIN:VEVENT
DTSTART;TZID=UTC:20220709T150000
DTEND;TZID=UTC:20220709T220000
DTSTAMP:20260420T011225
CREATED:20220126T151951Z
LAST-MODIFIED:20220511T134937Z
UID:7316-1657378800-1657404000@pwhat.com
SUMMARY:Fun Show Lebanon
DESCRIPTION:James Ward Ag Center Lebanon TN  Start time 3:00 pm \nClass Sheet \nMake Entries
URL:https://pwhat.com/event/fun-show-lebanon/
LOCATION:Ag Center Lebanon\, 945 E Baddour Pkwy\, Lebanon\, TN\, United States
END:VEVENT
BEGIN:VEVENT
DTSTART;TZID=UTC:20220709T100000
DTEND;TZID=UTC:20220709T130000
DTSTAMP:20260420T011225
CREATED:20220608T125017Z
LAST-MODIFIED:20220703T210438Z
UID:7512-1657360800-1657371600@pwhat.com
SUMMARY:Versatility Show Lebanon
DESCRIPTION:10:00 am James Ward Ag Center Lebanon \nVersatility Class Sheet
URL:https://pwhat.com/event/versatility-show-lebanon/
LOCATION:Ag Center Lebanon\, 945 E Baddour Pkwy\, Lebanon\, TN\, United States
END:VEVENT
BEGIN:VEVENT
DTSTART;TZID=UTC:20220705T190000
DTEND;TZID=UTC:20220705T210000
DTSTAMP:20260420T011225
CREATED:20220511T135359Z
LAST-MODIFIED:20220511T135359Z
UID:7446-1657047600-1657054800@pwhat.com
SUMMARY:Board Meeting
DESCRIPTION:7:00 pm at SSHBEA Office\, Shelbyville\, TN
URL:https://pwhat.com/event/board-meeting-15/
LOCATION:SSHBEA Office\, 2519 Highway 231 N\, Shelbyville\, TN\, 37160\, United States
END:VEVENT
BEGIN:VEVENT
DTSTART;TZID=UTC:20220611T100000
DTEND;TZID=UTC:20220611T170000
DTSTAMP:20260420T011225
CREATED:20220126T152727Z
LAST-MODIFIED:20220608T124819Z
UID:7322-1654941600-1654966800@pwhat.com
SUMMARY:Trail Ride Natchez Trace **Location Changed**
DESCRIPTION:Starts 10:00 am Directions: From Columbia\, take Hwy 7 toward Santa Fe to the Natchez Trace (17Miles) and turn right on to Old Natchez Trace Rd just before going under overpass. Trail head is about 300 feet north of Hwy 7.
URL:https://pwhat.com/event/trail-ride-peeler-park/
LOCATION:Peeler Park\, 2271 Neelys Bend Rd\, Madison\, TN\, 37115
END:VEVENT
BEGIN:VEVENT
DTSTART;TZID=UTC:20220604T110000
DTEND;TZID=UTC:20220604T170000
DTSTAMP:20260420T011225
CREATED:20220126T151803Z
LAST-MODIFIED:20220511T134637Z
UID:7314-1654340400-1654362000@pwhat.com
SUMMARY:Fun Show Wartrace
DESCRIPTION:Jernigan Field Wartrace TN 11:00 am \nClass Sheet \nMake Entries
URL:https://pwhat.com/event/fun-show-wartrace-2/
LOCATION:Jernigan Field Wartrace\, Wartrace\, TN\, United States
END:VEVENT
BEGIN:VEVENT
DTSTART;TZID=UTC:20220521T100000
DTEND;TZID=UTC:20220521T170000
DTSTAMP:20260420T011225
CREATED:20220126T152331Z
LAST-MODIFIED:20220126T152331Z
UID:7320-1653127200-1653152400@pwhat.com
SUMMARY:Trail Ride Laurel Hill
DESCRIPTION:Meet at 10:00 am
URL:https://pwhat.com/event/trail-ride-laurel-hill/
LOCATION:Laurel Hill Finney Rd\, Finney Road\, Lawrenceburg\, TN\, 38464\, United States
END:VEVENT
END:VCALENDAR