BEGIN:VCALENDAR
VERSION:2.0
PRODID:-//PWHAT - ECPv6.15.20//NONSGML v1.0//EN
CALSCALE:GREGORIAN
METHOD:PUBLISH
X-ORIGINAL-URL:https://pwhat.com
X-WR-CALDESC:Events for PWHAT
REFRESH-INTERVAL;VALUE=DURATION:PT1H
X-Robots-Tag:noindex
X-PUBLISHED-TTL:PT1H
BEGIN:VTIMEZONE
TZID:UTC
BEGIN:STANDARD
TZOFFSETFROM:+0000
TZOFFSETTO:+0000
TZNAME:UTC
DTSTART:20210101T000000
END:STANDARD
END:VTIMEZONE
BEGIN:VEVENT
DTSTART;TZID=UTC:20220604T110000
DTEND;TZID=UTC:20220604T170000
DTSTAMP:20260422T124343
CREATED:20220126T151803Z
LAST-MODIFIED:20220511T134637Z
UID:7314-1654340400-1654362000@pwhat.com
SUMMARY:Fun Show Wartrace
DESCRIPTION:Jernigan Field Wartrace TN 11:00 am \nClass Sheet \nMake Entries
URL:https://pwhat.com/event/fun-show-wartrace-2/
LOCATION:Jernigan Field Wartrace\, Wartrace\, TN\, United States
END:VEVENT
BEGIN:VEVENT
DTSTART;TZID=UTC:20220611T100000
DTEND;TZID=UTC:20220611T170000
DTSTAMP:20260422T124343
CREATED:20220126T152727Z
LAST-MODIFIED:20220608T124819Z
UID:7322-1654941600-1654966800@pwhat.com
SUMMARY:Trail Ride Natchez Trace **Location Changed**
DESCRIPTION:Starts 10:00 am Directions: From Columbia\, take Hwy 7 toward Santa Fe to the Natchez Trace (17Miles) and turn right on to Old Natchez Trace Rd just before going under overpass. Trail head is about 300 feet north of Hwy 7.
URL:https://pwhat.com/event/trail-ride-peeler-park/
LOCATION:Peeler Park\, 2271 Neelys Bend Rd\, Madison\, TN\, 37115
END:VEVENT
END:VCALENDAR