BEGIN:VCALENDAR
VERSION:2.0
PRODID:-//PWHAT - ECPv6.15.20//NONSGML v1.0//EN
CALSCALE:GREGORIAN
METHOD:PUBLISH
X-WR-CALNAME:PWHAT
X-ORIGINAL-URL:https://pwhat.com
X-WR-CALDESC:Events for PWHAT
REFRESH-INTERVAL;VALUE=DURATION:PT1H
X-Robots-Tag:noindex
X-PUBLISHED-TTL:PT1H
BEGIN:VTIMEZONE
TZID:UTC
BEGIN:STANDARD
TZOFFSETFROM:+0000
TZOFFSETTO:+0000
TZNAME:UTC
DTSTART:20210101T000000
END:STANDARD
END:VTIMEZONE
BEGIN:VEVENT
DTSTART;TZID=UTC:20220705T190000
DTEND;TZID=UTC:20220705T210000
DTSTAMP:20260422T110204
CREATED:20220511T135359Z
LAST-MODIFIED:20220511T135359Z
UID:7446-1657047600-1657054800@pwhat.com
SUMMARY:Board Meeting
DESCRIPTION:7:00 pm at SSHBEA Office\, Shelbyville\, TN
URL:https://pwhat.com/event/board-meeting-15/
LOCATION:SSHBEA Office\, 2519 Highway 231 N\, Shelbyville\, TN\, 37160\, United States
END:VEVENT
BEGIN:VEVENT
DTSTART;TZID=UTC:20220709T100000
DTEND;TZID=UTC:20220709T130000
DTSTAMP:20260422T110204
CREATED:20220608T125017Z
LAST-MODIFIED:20220703T210438Z
UID:7512-1657360800-1657371600@pwhat.com
SUMMARY:Versatility Show Lebanon
DESCRIPTION:10:00 am James Ward Ag Center Lebanon \nVersatility Class Sheet
URL:https://pwhat.com/event/versatility-show-lebanon/
LOCATION:Ag Center Lebanon\, 945 E Baddour Pkwy\, Lebanon\, TN\, United States
END:VEVENT
BEGIN:VEVENT
DTSTART;TZID=UTC:20220709T150000
DTEND;TZID=UTC:20220709T220000
DTSTAMP:20260422T110204
CREATED:20220126T151951Z
LAST-MODIFIED:20220511T134937Z
UID:7316-1657378800-1657404000@pwhat.com
SUMMARY:Fun Show Lebanon
DESCRIPTION:James Ward Ag Center Lebanon TN  Start time 3:00 pm \nClass Sheet \nMake Entries
URL:https://pwhat.com/event/fun-show-lebanon/
LOCATION:Ag Center Lebanon\, 945 E Baddour Pkwy\, Lebanon\, TN\, United States
END:VEVENT
END:VCALENDAR