BEGIN:VCALENDAR
VERSION:2.0
PRODID:-//PWHAT - ECPv6.15.20//NONSGML v1.0//EN
CALSCALE:GREGORIAN
METHOD:PUBLISH
X-WR-CALNAME:PWHAT
X-ORIGINAL-URL:https://pwhat.com
X-WR-CALDESC:Events for PWHAT
REFRESH-INTERVAL;VALUE=DURATION:PT1H
X-Robots-Tag:noindex
X-PUBLISHED-TTL:PT1H
BEGIN:VTIMEZONE
TZID:UTC
BEGIN:STANDARD
TZOFFSETFROM:+0000
TZOFFSETTO:+0000
TZNAME:UTC
DTSTART:20210101T000000
END:STANDARD
END:VTIMEZONE
BEGIN:VEVENT
DTSTART;TZID=UTC:20220924T100000
DTEND;TZID=UTC:20220924T170000
DTSTAMP:20260422T075231
CREATED:20220126T153243Z
LAST-MODIFIED:20220126T153243Z
UID:7325-1664013600-1664038800@pwhat.com
SUMMARY:Trail Ride Badlands Horse Camp
DESCRIPTION:Horse Camp has a cabin\, RV spaces and some stalls.  Day ride starts at 10:00 am
URL:https://pwhat.com/event/trail-ride-badlands-horse-camp/
LOCATION:Badlands Horse Camp\, 926 Fletcher Rd\, Gruetli Laager\, TN\, 37339
END:VEVENT
END:VCALENDAR