BEGIN:VCALENDAR
VERSION:2.0
PRODID:-//PWHAT - ECPv6.15.20//NONSGML v1.0//EN
CALSCALE:GREGORIAN
METHOD:PUBLISH
X-WR-CALNAME:PWHAT
X-ORIGINAL-URL:https://pwhat.com
X-WR-CALDESC:Events for PWHAT
REFRESH-INTERVAL;VALUE=DURATION:PT1H
X-Robots-Tag:noindex
X-PUBLISHED-TTL:PT1H
BEGIN:VTIMEZONE
TZID:UTC
BEGIN:STANDARD
TZOFFSETFROM:+0000
TZOFFSETTO:+0000
TZNAME:UTC
DTSTART:20220101T000000
END:STANDARD
END:VTIMEZONE
BEGIN:VEVENT
DTSTART;TZID=UTC:20230225T110000
DTEND;TZID=UTC:20230225T170000
DTSTAMP:20260421T222945
CREATED:20230203T051724Z
LAST-MODIFIED:20230203T051724Z
UID:7678-1677322800-1677344400@pwhat.com
SUMMARY:Schooling Show - 2023 Show Series #1
DESCRIPTION:
URL:https://pwhat.com/event/schooling-show-2023-show-series-1/
LOCATION:Clearview Farm\, 2291 US 231 South\, Shelbyville\, TN\, United States
END:VEVENT
END:VCALENDAR