BEGIN:VCALENDAR
VERSION:2.0
PRODID:-//PWHAT - ECPv6.15.20//NONSGML v1.0//EN
CALSCALE:GREGORIAN
METHOD:PUBLISH
X-ORIGINAL-URL:https://pwhat.com
X-WR-CALDESC:Events for PWHAT
REFRESH-INTERVAL;VALUE=DURATION:PT1H
X-Robots-Tag:noindex
X-PUBLISHED-TTL:PT1H
BEGIN:VTIMEZONE
TZID:UTC
BEGIN:STANDARD
TZOFFSETFROM:+0000
TZOFFSETTO:+0000
TZNAME:UTC
DTSTART:20230101T000000
END:STANDARD
END:VTIMEZONE
BEGIN:VEVENT
DTSTART;TZID=UTC:20240127T173000
DTEND;TZID=UTC:20240127T220000
DTSTAMP:20260421T034709
CREATED:20231130T235301Z
LAST-MODIFIED:20231130T235301Z
UID:7846-1706376600-1706392800@pwhat.com
SUMMARY:AWARDS BANQUET
DESCRIPTION:
URL:https://pwhat.com/event/awards-banquet-3/
LOCATION:Bell Buckle Cafe\, 16 Railroad Sq E\, Bell Buckle\, TN\, 37020
END:VEVENT
END:VCALENDAR