BEGIN:VCALENDAR
VERSION:2.0
PRODID:-//PWHAT - ECPv6.15.20//NONSGML v1.0//EN
CALSCALE:GREGORIAN
METHOD:PUBLISH
X-ORIGINAL-URL:https://pwhat.com
X-WR-CALDESC:Events for PWHAT
REFRESH-INTERVAL;VALUE=DURATION:PT1H
X-Robots-Tag:noindex
X-PUBLISHED-TTL:PT1H
BEGIN:VTIMEZONE
TZID:UTC
BEGIN:STANDARD
TZOFFSETFROM:+0000
TZOFFSETTO:+0000
TZNAME:UTC
DTSTART:20230101T000000
END:STANDARD
END:VTIMEZONE
BEGIN:VEVENT
DTSTART;TZID=UTC:20240615T110000
DTEND;TZID=UTC:20240615T170000
DTSTAMP:20260420T193524
CREATED:20240219T002102Z
LAST-MODIFIED:20240530T220645Z
UID:7897-1718449200-1718470800@pwhat.com
SUMMARY:June Fun Show Lewisburg
DESCRIPTION:Class Sheet \nOnline Entries
URL:https://pwhat.com/event/june-fun-show/
LOCATION:Marshall County Show Arena Lewisburg\, 1401-1405 Robin Hood Road\, Lewisburg TN
END:VEVENT
END:VCALENDAR