BEGIN:VCALENDAR
VERSION:2.0
PRODID:-//PWHAT - ECPv6.15.20//NONSGML v1.0//EN
CALSCALE:GREGORIAN
METHOD:PUBLISH
X-WR-CALNAME:PWHAT
X-ORIGINAL-URL:https://pwhat.com
X-WR-CALDESC:Events for PWHAT
REFRESH-INTERVAL;VALUE=DURATION:PT1H
X-Robots-Tag:noindex
X-PUBLISHED-TTL:PT1H
BEGIN:VTIMEZONE
TZID:UTC
BEGIN:STANDARD
TZOFFSETFROM:+0000
TZOFFSETTO:+0000
TZNAME:UTC
DTSTART:20230101T000000
END:STANDARD
END:VTIMEZONE
BEGIN:VEVENT
DTSTART;TZID=UTC:20241112T190000
DTEND;TZID=UTC:20241112T203000
DTSTAMP:20260420T105923
CREATED:20240512T201059Z
LAST-MODIFIED:20240512T201059Z
UID:7988-1731438000-1731443400@pwhat.com
SUMMARY:Nov BOD Meeting
DESCRIPTION:7:00 pm Location SSHBEA Office HWY 231 N Shelbyville TN
URL:https://pwhat.com/event/nov-bod-meeting/
LOCATION:SSHBEA Office\, 2519 Highway 231 N\, Shelbyville\, TN\, 37160\, United States
END:VEVENT
END:VCALENDAR