BEGIN:VCALENDAR
VERSION:2.0
PRODID:-//PWHAT - ECPv6.15.20//NONSGML v1.0//EN
CALSCALE:GREGORIAN
METHOD:PUBLISH
X-ORIGINAL-URL:https://pwhat.com
X-WR-CALDESC:Events for PWHAT
REFRESH-INTERVAL;VALUE=DURATION:PT1H
X-Robots-Tag:noindex
X-PUBLISHED-TTL:PT1H
BEGIN:VTIMEZONE
TZID:UTC
BEGIN:STANDARD
TZOFFSETFROM:+0000
TZOFFSETTO:+0000
TZNAME:UTC
DTSTART:20240101T000000
END:STANDARD
END:VTIMEZONE
BEGIN:VEVENT
DTSTART;TZID=UTC:20250513T190000
DTEND;TZID=UTC:20250513T203000
DTSTAMP:20260419T234148
CREATED:20250202T232440Z
LAST-MODIFIED:20250202T232440Z
UID:8091-1747162800-1747168200@pwhat.com
SUMMARY:Board of Directors Meeting
DESCRIPTION:
URL:https://pwhat.com/event/board-of-directors-meeting-7/
LOCATION:TBD
END:VEVENT
END:VCALENDAR