BEGIN:VCALENDAR
VERSION:2.0
PRODID:-//PWHAT - ECPv6.15.20//NONSGML v1.0//EN
CALSCALE:GREGORIAN
METHOD:PUBLISH
X-ORIGINAL-URL:https://pwhat.com
X-WR-CALDESC:Events for PWHAT
REFRESH-INTERVAL;VALUE=DURATION:PT1H
X-Robots-Tag:noindex
X-PUBLISHED-TTL:PT1H
BEGIN:VTIMEZONE
TZID:UTC
BEGIN:STANDARD
TZOFFSETFROM:+0000
TZOFFSETTO:+0000
TZNAME:UTC
DTSTART:20240101T000000
END:STANDARD
END:VTIMEZONE
BEGIN:VEVENT
DTSTART;TZID=UTC:20250909T190000
DTEND;TZID=UTC:20250909T203000
DTSTAMP:20260419T153511
CREATED:20250202T232712Z
LAST-MODIFIED:20250202T232712Z
UID:8095-1757444400-1757449800@pwhat.com
SUMMARY:Board of Directors Meeting
DESCRIPTION:
URL:https://pwhat.com/event/board-of-directors-meeting-9/
LOCATION:SSHBEA Office\, 2519 Highway 231 N\, Shelbyville\, TN\, 37160\, United States
END:VEVENT
BEGIN:VEVENT
DTSTART;TZID=UTC:20250913T103000
DTEND;TZID=UTC:20250913T180000
DTSTAMP:20260419T153511
CREATED:20241118T003540Z
LAST-MODIFIED:20250424T125649Z
UID:8035-1757759400-1757786400@pwhat.com
SUMMARY:PWHAT Show Series September
DESCRIPTION:
URL:https://pwhat.com/event/pwhat-show-series-september/
LOCATION:James Ward Ag Center Lebanon TN\, 945 Baddour Pkwy\, Lebanon\, TN\, United States
END:VEVENT
END:VCALENDAR