BEGIN:VCALENDAR
VERSION:2.0
PRODID:-//PWHAT - ECPv6.15.20//NONSGML v1.0//EN
CALSCALE:GREGORIAN
METHOD:PUBLISH
X-ORIGINAL-URL:https://pwhat.com
X-WR-CALDESC:Events for PWHAT
REFRESH-INTERVAL;VALUE=DURATION:PT1H
X-Robots-Tag:noindex
X-PUBLISHED-TTL:PT1H
BEGIN:VTIMEZONE
TZID:UTC
BEGIN:STANDARD
TZOFFSETFROM:+0000
TZOFFSETTO:+0000
TZNAME:UTC
DTSTART:20240101T000000
END:STANDARD
END:VTIMEZONE
BEGIN:VEVENT
DTSTART;TZID=UTC:20251122T153000
DTEND;TZID=UTC:20251122T203000
DTSTAMP:20260419T121012
CREATED:20250202T232816Z
LAST-MODIFIED:20251120T003847Z
UID:8097-1763825400-1763843400@pwhat.com
SUMMARY:Board of Directors Meeting
DESCRIPTION:
URL:https://pwhat.com/event/board-of-directors-meeting-10/
LOCATION:SSHBEA Office\, 2519 Highway 231 N\, Shelbyville\, TN\, 37160\, United States
END:VEVENT
END:VCALENDAR