BEGIN:VCALENDAR
VERSION:2.0
PRODID:-//PWHAT - ECPv6.15.20//NONSGML v1.0//EN
CALSCALE:GREGORIAN
METHOD:PUBLISH
X-ORIGINAL-URL:https://pwhat.com
X-WR-CALDESC:Events for PWHAT
REFRESH-INTERVAL;VALUE=DURATION:PT1H
X-Robots-Tag:noindex
X-PUBLISHED-TTL:PT1H
BEGIN:VTIMEZONE
TZID:UTC
BEGIN:STANDARD
TZOFFSETFROM:+0000
TZOFFSETTO:+0000
TZNAME:UTC
DTSTART:20250101T000000
END:STANDARD
END:VTIMEZONE
BEGIN:VEVENT
DTSTART;TZID=UTC:20260425T103000
DTEND;TZID=UTC:20260425T170000
DTSTAMP:20260419T140640
CREATED:20251120T011309Z
LAST-MODIFIED:20260214T213808Z
UID:8217-1777113000-1777136400@pwhat.com
SUMMARY:PWHAT Show Series April
DESCRIPTION:MTSU TN Livestock Center\, Murfreesboro \nClass sheet  Casual Attire
URL:https://pwhat.com/event/pwhat-show-series-april/
LOCATION:TN Livestock Center\, 1720 Greenland Dr\,\, Murfreesboro\, TN\, 37132\, United States
END:VEVENT
END:VCALENDAR